OziExplorer Map Data File Version 2.2
P-36-030-C,D.jpg
1 ,Map Code,
P-36-030-C,D_r25_bez_ram.jpg, 0.0000, 0.0000,WGS 84
Reserved 1
Reserved 2
Magnetic Variation,,,W
Map Projection,Transverse Mercator,PolyCal,No,AutoCalOnly,No,BSBUseWPX,Yes
Point01,xy, 39, 228,in, deg, 63, 10.0000,N, 32, 30.0000,E, grid, , , ,N
Point02,xy, 8020, 234,in, deg, 63, 10.0000,N, 33, 0.0000,E, grid, , , ,N
Point03,xy, 8044, 6080,in, deg, 63, 0.0000,N, 33, 0.0000,E, grid, , , ,N
Point04,xy, 22, 6084,in, deg, 63, 0.0000,N, 32, 30.0000,E, grid, , , ,N
Point05,xy, 4032, 3161,in, deg, 63, 5.0000,N, 32, 45.0000,E, grid, , , ,N
Point06,xy, 4032, 238,in, deg, 63, 10.0000,N, 32, 45.0000,E, grid, , , ,N
Point07,xy, 30, 3151,in, deg, 63, 5.0000,N, 32, 30.0000,E, grid, , , ,N
Point08,xy, 8031, 3156,in, deg, 63, 5.0000,N, 33, 0.0000,E, grid, , , ,N
Point09,xy, 4033, 6089,in, deg, 63, 0.0000,N, 32, 45.0000,E, grid, , , ,N
Point10,xy, , ,in, deg, , ,N, , ,W, grid, , , ,N
Point11,xy, , ,in, deg, , ,N, , ,W, grid, , , ,N
Point12,xy, , ,in, deg, , ,N, , ,W, grid, , , ,N
Point13,xy, , ,in, deg, , ,N, , ,W, grid, , , ,N
Point14,xy, , ,in, deg, , ,N, , ,W, grid, , , ,N
Point15,xy, , ,in, deg, , ,N, , ,W, grid, , , ,N
Point16,xy, , ,in, deg, , ,N, , ,W, grid, , , ,N
Point17,xy, , ,in, deg, , ,N, , ,W, grid, , , ,N
Point18,xy, , ,in, deg, , ,N, , ,W, grid, , , ,N
Point19,xy, , ,in, deg, , ,N, , ,W, grid, , , ,N
Point20,xy, , ,in, deg, , ,N, , ,W, grid, , , ,N
Point21,xy, , ,in, deg, , ,N, , ,W, grid, , , ,N
Point22,xy, , ,in, deg, , ,N, , ,W, grid, , , ,N
Point23,xy, , ,in, deg, , ,N, , ,W, grid, , , ,N
Point24,xy, , ,in, deg, , ,N, , ,W, grid, , , ,N
Point25,xy, , ,in, deg, , ,N, , ,W, grid, , , ,N
Point26,xy, , ,in, deg, , ,N, , ,W, grid, , , ,N
Point27,xy, , ,in, deg, , ,N, , ,W, grid, , , ,N
Point28,xy, , ,in, deg, , ,N, , ,W, grid, , , ,N
Point29,xy, , ,in, deg, , ,N, , ,W, grid, , , ,N
Point30,xy, , ,in, deg, , ,N, , ,W, grid, , , ,N
Projection Setup, 0.000000000, 33.000000000, 1.000000000, 500000.00, 0.00,,,,,
Map Feature = MF ; Map Comment = MC These follow if they exist
Track File = TF These follow if they exist
Moving Map Parameters = MM? These follow if they exist
MM0,Yes
MMPNUM,4
MMPXY,1,146,221
MMPXY,2,4739,221
MMPXY,3,4739,4217
MMPXY,4,146,4217
MMPLL,1, 32.506585, 63.166897
MMPLL,2, 32.794426, 63.167137
MMPLL,3, 32.794139, 63.053311
MMPLL,4, 32.507422, 63.053072
MM1B,3.156211
Other Grid Setup
GRGRID,No,1 Km,No,16711680,255,1 Km,0,16777215,8,0,Yes,Yes,No,x
MOP,Map Open Position,0,0
IWH,Map Image Width/Height,8082,6125
